BEGIN:VCALENDAR
VERSION:2.0
PRODID:-//North Cities - ECPv6.15.20//NONSGML v1.0//EN
CALSCALE:GREGORIAN
METHOD:PUBLISH
X-WR-CALNAME:North Cities
X-ORIGINAL-URL:https://www.northcities.org
X-WR-CALDESC:Events for North Cities
REFRESH-INTERVAL;VALUE=DURATION:PT1H
X-Robots-Tag:noindex
X-PUBLISHED-TTL:PT1H
BEGIN:VTIMEZONE
TZID:America/Chicago
BEGIN:DAYLIGHT
TZOFFSETFROM:-0600
TZOFFSETTO:-0500
TZNAME:CDT
DTSTART:20250309T080000
END:DAYLIGHT
BEGIN:STANDARD
TZOFFSETFROM:-0500
TZOFFSETTO:-0600
TZNAME:CST
DTSTART:20251102T070000
END:STANDARD
BEGIN:DAYLIGHT
TZOFFSETFROM:-0600
TZOFFSETTO:-0500
TZNAME:CDT
DTSTART:20260308T080000
END:DAYLIGHT
BEGIN:STANDARD
TZOFFSETFROM:-0500
TZOFFSETTO:-0600
TZNAME:CST
DTSTART:20261101T070000
END:STANDARD
BEGIN:DAYLIGHT
TZOFFSETFROM:-0600
TZOFFSETTO:-0500
TZNAME:CDT
DTSTART:20270314T080000
END:DAYLIGHT
BEGIN:STANDARD
TZOFFSETFROM:-0500
TZOFFSETTO:-0600
TZNAME:CST
DTSTART:20271107T070000
END:STANDARD
END:VTIMEZONE
BEGIN:VEVENT
DTSTART;TZID=America/Chicago:20260420T060000
DTEND;TZID=America/Chicago:20260420T062500
DTSTAMP:20260420T100255
CREATED:20251223T165548Z
LAST-MODIFIED:20251223T165729Z
UID:10009129-1776664800-1776666300@www.northcities.org
SUMMARY:VOICES: Recordings on Demand
DESCRIPTION:Voices: Starting with Eve is Coming to You on Demand\, because not everyone can make the 6a M-F Bible Study.  Hey\, it’s 6a somewhere! \nTake 30 minutes per day to learn about the men and women of the Old Testament from a matriarchal perspective. These short segments will enhance your relationship with the Lord while teaching much needed truths about His Word. \nAfter you sign up\, a link will be sent out to you to allow you to view the past weeks lessons! \nRecommended to follow in the order of the lessons:\nGenesis & Job\,\nExodus thru Deuteronomy\,\nJudges & Ruth\,\nI & II Samuel\,\nI & II Kings/Chronicles and Esther \nTarget Audience: Adults \nLocation: On Demand \nJoin this group! Complete the form below.
URL:https://www.northcities.org/event/voices-recordings-on-demand/2026-04-20/
LOCATION:Online
CATEGORIES:Connect Groups,MISC
ORGANIZER;CN="Stephanie Lewis":MAILTO:StephanieLLewis@outlook.com
END:VEVENT
BEGIN:VEVENT
DTSTART;TZID=America/Chicago:20260420T180000
DTEND;TZID=America/Chicago:20260420T210000
DTSTAMP:20260420T100255
CREATED:20251222T192150Z
LAST-MODIFIED:20251222T192150Z
UID:10009002-1776708000-1776718800@www.northcities.org
SUMMARY:Pickleball Nights
DESCRIPTION:Pickleball is a sport created for connection between family\, friends\, and community. It is easy enough for anyone to learn quickly and enjoy. \nIf you are under 99 years old\, you qualify to play pickleball. Pickleball Nights is perfect for anyone wanting to try their hand at something new and grow in their church and community. \nTarget Audience: Everyone \nJoin this group! Complete the form below.
URL:https://www.northcities.org/event/pickleball/2026-04-20/
LOCATION:North Cities\, 502 Belt Line Rd\, Garland\, TX\, 75040\, United States
CATEGORIES:Connect Groups,MISC
ORGANIZER;CN="Carter Lyman":MAILTO:carterlyman08@gmail.com
GEO:32.9378119;-96.6347655
X-APPLE-STRUCTURED-LOCATION;VALUE=URI;X-ADDRESS=North Cities 502 Belt Line Rd Garland TX 75040 United States;X-APPLE-RADIUS=500;X-TITLE=502 Belt Line Rd:geo:-96.6347655,32.9378119
END:VEVENT
BEGIN:VEVENT
DTSTART;TZID=America/Chicago:20260420T190000
DTEND;TZID=America/Chicago:20260420T203000
DTSTAMP:20260420T100255
CREATED:20250502T170734Z
LAST-MODIFIED:20251223T173804Z
UID:10009277-1776711600-1776717000@www.northcities.org
SUMMARY:Women's Bible Study
DESCRIPTION:This Bible study emphasizes the diverse roles that women fulfill in our homes\, churches\, and modern society. We draw insights from each woman’s experiences to guide our conduct and effectively integrate these lessons into our lives as women\, wives\, mothers\, and more. \nTarget Audience: Ladies \nJoin this group! Complete the form below.
URL:https://www.northcities.org/event/womens-bible-study/2026-04-20/
LOCATION:North Cities\, 502 Belt Line Rd\, Garland\, TX\, 75040\, United States
CATEGORIES:Connect Groups
ORGANIZER;CN="Laura Wissert":MAILTO:lcastillo1013@yahoo.com
GEO:32.9378119;-96.6347655
X-APPLE-STRUCTURED-LOCATION;VALUE=URI;X-ADDRESS=North Cities 502 Belt Line Rd Garland TX 75040 United States;X-APPLE-RADIUS=500;X-TITLE=502 Belt Line Rd:geo:-96.6347655,32.9378119
END:VEVENT
END:VCALENDAR