BEGIN:VCALENDAR
VERSION:2.0
PRODID:-//North Cities - ECPv6.15.20//NONSGML v1.0//EN
CALSCALE:GREGORIAN
METHOD:PUBLISH
X-WR-CALNAME:North Cities
X-ORIGINAL-URL:https://www.northcities.org
X-WR-CALDESC:Events for North Cities
REFRESH-INTERVAL;VALUE=DURATION:PT1H
X-Robots-Tag:noindex
X-PUBLISHED-TTL:PT1H
BEGIN:VTIMEZONE
TZID:America/Chicago
BEGIN:DAYLIGHT
TZOFFSETFROM:-0600
TZOFFSETTO:-0500
TZNAME:CDT
DTSTART:20250309T080000
END:DAYLIGHT
BEGIN:STANDARD
TZOFFSETFROM:-0500
TZOFFSETTO:-0600
TZNAME:CST
DTSTART:20251102T070000
END:STANDARD
BEGIN:DAYLIGHT
TZOFFSETFROM:-0600
TZOFFSETTO:-0500
TZNAME:CDT
DTSTART:20260308T080000
END:DAYLIGHT
BEGIN:STANDARD
TZOFFSETFROM:-0500
TZOFFSETTO:-0600
TZNAME:CST
DTSTART:20261101T070000
END:STANDARD
BEGIN:DAYLIGHT
TZOFFSETFROM:-0600
TZOFFSETTO:-0500
TZNAME:CDT
DTSTART:20270314T080000
END:DAYLIGHT
BEGIN:STANDARD
TZOFFSETFROM:-0500
TZOFFSETTO:-0600
TZNAME:CST
DTSTART:20271107T070000
END:STANDARD
END:VTIMEZONE
BEGIN:VEVENT
DTSTART;TZID=America/Chicago:20260416T190000
DTEND;TZID=America/Chicago:20260416T200000
DTSTAMP:20260420T130104
CREATED:20251222T200146Z
LAST-MODIFIED:20251222T200146Z
UID:10009018-1776366000-1776369600@www.northcities.org
SUMMARY:Self-Defense
DESCRIPTION:This group will teach the basics of karate and taekwon do. No uniforms\, no belt rank\, no sparring. \nThe class will do a short warm up/stretch then go over the basic hand techniques\, kicking techniques\, joint manipulation and take downs. \nBe sure to wear baggy clothing and sneakers or go bare foot. \nClass will last 45-60 minutes. \nInstructor is Covert Blackledge\, 7th degree Black Belt\, with over 55 years experience\, and a nationally recognized instructor and competitor. \nTarget Audience: Everyone (12+) \nJoin this group! Complete the form below.
URL:https://www.northcities.org/event/self-defense/2026-04-16/
LOCATION:North Cities\, 502 Belt Line Rd\, Garland\, TX\, 75040\, United States
CATEGORIES:Connect Groups,MISC
ORGANIZER;CN="Covert Blackledge":MAILTO:covertblackledge@yahoo.com
GEO:32.9378119;-96.6347655
X-APPLE-STRUCTURED-LOCATION;VALUE=URI;X-ADDRESS=North Cities 502 Belt Line Rd Garland TX 75040 United States;X-APPLE-RADIUS=500;X-TITLE=502 Belt Line Rd:geo:-96.6347655,32.9378119
END:VEVENT
BEGIN:VEVENT
DTSTART;TZID=America/Chicago:20260409T190000
DTEND;TZID=America/Chicago:20260409T200000
DTSTAMP:20260420T130104
CREATED:20251222T200146Z
LAST-MODIFIED:20251222T200146Z
UID:10009017-1775761200-1775764800@www.northcities.org
SUMMARY:Self-Defense
DESCRIPTION:This group will teach the basics of karate and taekwon do. No uniforms\, no belt rank\, no sparring. \nThe class will do a short warm up/stretch then go over the basic hand techniques\, kicking techniques\, joint manipulation and take downs. \nBe sure to wear baggy clothing and sneakers or go bare foot. \nClass will last 45-60 minutes. \nInstructor is Covert Blackledge\, 7th degree Black Belt\, with over 55 years experience\, and a nationally recognized instructor and competitor. \nTarget Audience: Everyone (12+) \nJoin this group! Complete the form below.
URL:https://www.northcities.org/event/self-defense/2026-04-09/
LOCATION:North Cities\, 502 Belt Line Rd\, Garland\, TX\, 75040\, United States
CATEGORIES:Connect Groups,MISC
ORGANIZER;CN="Covert Blackledge":MAILTO:covertblackledge@yahoo.com
GEO:32.9378119;-96.6347655
X-APPLE-STRUCTURED-LOCATION;VALUE=URI;X-ADDRESS=North Cities 502 Belt Line Rd Garland TX 75040 United States;X-APPLE-RADIUS=500;X-TITLE=502 Belt Line Rd:geo:-96.6347655,32.9378119
END:VEVENT
BEGIN:VEVENT
DTSTART;TZID=America/Chicago:20260402T190000
DTEND;TZID=America/Chicago:20260402T200000
DTSTAMP:20260420T130104
CREATED:20251222T200146Z
LAST-MODIFIED:20251222T200146Z
UID:10009016-1775156400-1775160000@www.northcities.org
SUMMARY:Self-Defense
DESCRIPTION:This group will teach the basics of karate and taekwon do. No uniforms\, no belt rank\, no sparring. \nThe class will do a short warm up/stretch then go over the basic hand techniques\, kicking techniques\, joint manipulation and take downs. \nBe sure to wear baggy clothing and sneakers or go bare foot. \nClass will last 45-60 minutes. \nInstructor is Covert Blackledge\, 7th degree Black Belt\, with over 55 years experience\, and a nationally recognized instructor and competitor. \nTarget Audience: Everyone (12+) \nJoin this group! Complete the form below.
URL:https://www.northcities.org/event/self-defense/2026-04-02/
LOCATION:North Cities\, 502 Belt Line Rd\, Garland\, TX\, 75040\, United States
CATEGORIES:Connect Groups,MISC
ORGANIZER;CN="Covert Blackledge":MAILTO:covertblackledge@yahoo.com
GEO:32.9378119;-96.6347655
X-APPLE-STRUCTURED-LOCATION;VALUE=URI;X-ADDRESS=North Cities 502 Belt Line Rd Garland TX 75040 United States;X-APPLE-RADIUS=500;X-TITLE=502 Belt Line Rd:geo:-96.6347655,32.9378119
END:VEVENT
BEGIN:VEVENT
DTSTART;TZID=America/Chicago:20260326T190000
DTEND;TZID=America/Chicago:20260326T200000
DTSTAMP:20260420T130104
CREATED:20251222T200146Z
LAST-MODIFIED:20251222T200146Z
UID:10009015-1774551600-1774555200@www.northcities.org
SUMMARY:Self-Defense
DESCRIPTION:This group will teach the basics of karate and taekwon do. No uniforms\, no belt rank\, no sparring. \nThe class will do a short warm up/stretch then go over the basic hand techniques\, kicking techniques\, joint manipulation and take downs. \nBe sure to wear baggy clothing and sneakers or go bare foot. \nClass will last 45-60 minutes. \nInstructor is Covert Blackledge\, 7th degree Black Belt\, with over 55 years experience\, and a nationally recognized instructor and competitor. \nTarget Audience: Everyone (12+) \nJoin this group! Complete the form below.
URL:https://www.northcities.org/event/self-defense/2026-03-26/
LOCATION:North Cities\, 502 Belt Line Rd\, Garland\, TX\, 75040\, United States
CATEGORIES:Connect Groups,MISC
ORGANIZER;CN="Covert Blackledge":MAILTO:covertblackledge@yahoo.com
GEO:32.9378119;-96.6347655
X-APPLE-STRUCTURED-LOCATION;VALUE=URI;X-ADDRESS=North Cities 502 Belt Line Rd Garland TX 75040 United States;X-APPLE-RADIUS=500;X-TITLE=502 Belt Line Rd:geo:-96.6347655,32.9378119
END:VEVENT
BEGIN:VEVENT
DTSTART;TZID=America/Chicago:20260319T190000
DTEND;TZID=America/Chicago:20260319T200000
DTSTAMP:20260420T130104
CREATED:20251222T200146Z
LAST-MODIFIED:20251222T200146Z
UID:10009014-1773946800-1773950400@www.northcities.org
SUMMARY:Self-Defense
DESCRIPTION:This group will teach the basics of karate and taekwon do. No uniforms\, no belt rank\, no sparring. \nThe class will do a short warm up/stretch then go over the basic hand techniques\, kicking techniques\, joint manipulation and take downs. \nBe sure to wear baggy clothing and sneakers or go bare foot. \nClass will last 45-60 minutes. \nInstructor is Covert Blackledge\, 7th degree Black Belt\, with over 55 years experience\, and a nationally recognized instructor and competitor. \nTarget Audience: Everyone (12+) \nJoin this group! Complete the form below.
URL:https://www.northcities.org/event/self-defense/2026-03-19/
LOCATION:North Cities\, 502 Belt Line Rd\, Garland\, TX\, 75040\, United States
CATEGORIES:Connect Groups,MISC
ORGANIZER;CN="Covert Blackledge":MAILTO:covertblackledge@yahoo.com
GEO:32.9378119;-96.6347655
X-APPLE-STRUCTURED-LOCATION;VALUE=URI;X-ADDRESS=North Cities 502 Belt Line Rd Garland TX 75040 United States;X-APPLE-RADIUS=500;X-TITLE=502 Belt Line Rd:geo:-96.6347655,32.9378119
END:VEVENT
BEGIN:VEVENT
DTSTART;TZID=America/Chicago:20260312T190000
DTEND;TZID=America/Chicago:20260312T200000
DTSTAMP:20260420T130104
CREATED:20251222T200146Z
LAST-MODIFIED:20251222T200146Z
UID:10009013-1773342000-1773345600@www.northcities.org
SUMMARY:Self-Defense
DESCRIPTION:This group will teach the basics of karate and taekwon do. No uniforms\, no belt rank\, no sparring. \nThe class will do a short warm up/stretch then go over the basic hand techniques\, kicking techniques\, joint manipulation and take downs. \nBe sure to wear baggy clothing and sneakers or go bare foot. \nClass will last 45-60 minutes. \nInstructor is Covert Blackledge\, 7th degree Black Belt\, with over 55 years experience\, and a nationally recognized instructor and competitor. \nTarget Audience: Everyone (12+) \nJoin this group! Complete the form below.
URL:https://www.northcities.org/event/self-defense/2026-03-12/
LOCATION:North Cities\, 502 Belt Line Rd\, Garland\, TX\, 75040\, United States
CATEGORIES:Connect Groups,MISC
ORGANIZER;CN="Covert Blackledge":MAILTO:covertblackledge@yahoo.com
GEO:32.9378119;-96.6347655
X-APPLE-STRUCTURED-LOCATION;VALUE=URI;X-ADDRESS=North Cities 502 Belt Line Rd Garland TX 75040 United States;X-APPLE-RADIUS=500;X-TITLE=502 Belt Line Rd:geo:-96.6347655,32.9378119
END:VEVENT
BEGIN:VEVENT
DTSTART;TZID=America/Chicago:20260305T190000
DTEND;TZID=America/Chicago:20260305T200000
DTSTAMP:20260420T130104
CREATED:20251222T200146Z
LAST-MODIFIED:20251222T200146Z
UID:10009012-1772737200-1772740800@www.northcities.org
SUMMARY:Self-Defense
DESCRIPTION:This group will teach the basics of karate and taekwon do. No uniforms\, no belt rank\, no sparring. \nThe class will do a short warm up/stretch then go over the basic hand techniques\, kicking techniques\, joint manipulation and take downs. \nBe sure to wear baggy clothing and sneakers or go bare foot. \nClass will last 45-60 minutes. \nInstructor is Covert Blackledge\, 7th degree Black Belt\, with over 55 years experience\, and a nationally recognized instructor and competitor. \nTarget Audience: Everyone (12+) \nJoin this group! Complete the form below.
URL:https://www.northcities.org/event/self-defense/2026-03-05/
LOCATION:North Cities\, 502 Belt Line Rd\, Garland\, TX\, 75040\, United States
CATEGORIES:Connect Groups,MISC
ORGANIZER;CN="Covert Blackledge":MAILTO:covertblackledge@yahoo.com
GEO:32.9378119;-96.6347655
X-APPLE-STRUCTURED-LOCATION;VALUE=URI;X-ADDRESS=North Cities 502 Belt Line Rd Garland TX 75040 United States;X-APPLE-RADIUS=500;X-TITLE=502 Belt Line Rd:geo:-96.6347655,32.9378119
END:VEVENT
BEGIN:VEVENT
DTSTART;TZID=America/Chicago:20260226T190000
DTEND;TZID=America/Chicago:20260226T200000
DTSTAMP:20260420T130104
CREATED:20251222T200146Z
LAST-MODIFIED:20251222T200146Z
UID:10009011-1772132400-1772136000@www.northcities.org
SUMMARY:Self-Defense
DESCRIPTION:This group will teach the basics of karate and taekwon do. No uniforms\, no belt rank\, no sparring. \nThe class will do a short warm up/stretch then go over the basic hand techniques\, kicking techniques\, joint manipulation and take downs. \nBe sure to wear baggy clothing and sneakers or go bare foot. \nClass will last 45-60 minutes. \nInstructor is Covert Blackledge\, 7th degree Black Belt\, with over 55 years experience\, and a nationally recognized instructor and competitor. \nTarget Audience: Everyone (12+) \nJoin this group! Complete the form below.
URL:https://www.northcities.org/event/self-defense/2026-02-26/
LOCATION:North Cities\, 502 Belt Line Rd\, Garland\, TX\, 75040\, United States
CATEGORIES:Connect Groups,MISC
ORGANIZER;CN="Covert Blackledge":MAILTO:covertblackledge@yahoo.com
GEO:32.9378119;-96.6347655
X-APPLE-STRUCTURED-LOCATION;VALUE=URI;X-ADDRESS=North Cities 502 Belt Line Rd Garland TX 75040 United States;X-APPLE-RADIUS=500;X-TITLE=502 Belt Line Rd:geo:-96.6347655,32.9378119
END:VEVENT
BEGIN:VEVENT
DTSTART;TZID=America/Chicago:20260219T190000
DTEND;TZID=America/Chicago:20260219T200000
DTSTAMP:20260420T130104
CREATED:20251222T200146Z
LAST-MODIFIED:20251222T200146Z
UID:10009010-1771527600-1771531200@www.northcities.org
SUMMARY:Self-Defense
DESCRIPTION:This group will teach the basics of karate and taekwon do. No uniforms\, no belt rank\, no sparring. \nThe class will do a short warm up/stretch then go over the basic hand techniques\, kicking techniques\, joint manipulation and take downs. \nBe sure to wear baggy clothing and sneakers or go bare foot. \nClass will last 45-60 minutes. \nInstructor is Covert Blackledge\, 7th degree Black Belt\, with over 55 years experience\, and a nationally recognized instructor and competitor. \nTarget Audience: Everyone (12+) \nJoin this group! Complete the form below.
URL:https://www.northcities.org/event/self-defense/2026-02-19/
LOCATION:North Cities\, 502 Belt Line Rd\, Garland\, TX\, 75040\, United States
CATEGORIES:Connect Groups,MISC
ORGANIZER;CN="Covert Blackledge":MAILTO:covertblackledge@yahoo.com
GEO:32.9378119;-96.6347655
X-APPLE-STRUCTURED-LOCATION;VALUE=URI;X-ADDRESS=North Cities 502 Belt Line Rd Garland TX 75040 United States;X-APPLE-RADIUS=500;X-TITLE=502 Belt Line Rd:geo:-96.6347655,32.9378119
END:VEVENT
BEGIN:VEVENT
DTSTART;TZID=America/Chicago:20260212T190000
DTEND;TZID=America/Chicago:20260212T200000
DTSTAMP:20260420T130104
CREATED:20251222T200146Z
LAST-MODIFIED:20251222T200146Z
UID:10009009-1770922800-1770926400@www.northcities.org
SUMMARY:Self-Defense
DESCRIPTION:This group will teach the basics of karate and taekwon do. No uniforms\, no belt rank\, no sparring. \nThe class will do a short warm up/stretch then go over the basic hand techniques\, kicking techniques\, joint manipulation and take downs. \nBe sure to wear baggy clothing and sneakers or go bare foot. \nClass will last 45-60 minutes. \nInstructor is Covert Blackledge\, 7th degree Black Belt\, with over 55 years experience\, and a nationally recognized instructor and competitor. \nTarget Audience: Everyone (12+) \nJoin this group! Complete the form below.
URL:https://www.northcities.org/event/self-defense/2026-02-12/
LOCATION:North Cities\, 502 Belt Line Rd\, Garland\, TX\, 75040\, United States
CATEGORIES:Connect Groups,MISC
ORGANIZER;CN="Covert Blackledge":MAILTO:covertblackledge@yahoo.com
GEO:32.9378119;-96.6347655
X-APPLE-STRUCTURED-LOCATION;VALUE=URI;X-ADDRESS=North Cities 502 Belt Line Rd Garland TX 75040 United States;X-APPLE-RADIUS=500;X-TITLE=502 Belt Line Rd:geo:-96.6347655,32.9378119
END:VEVENT
BEGIN:VEVENT
DTSTART;TZID=America/Chicago:20260205T190000
DTEND;TZID=America/Chicago:20260205T200000
DTSTAMP:20260420T130104
CREATED:20251222T200146Z
LAST-MODIFIED:20251222T200146Z
UID:10009008-1770318000-1770321600@www.northcities.org
SUMMARY:Self-Defense
DESCRIPTION:This group will teach the basics of karate and taekwon do. No uniforms\, no belt rank\, no sparring. \nThe class will do a short warm up/stretch then go over the basic hand techniques\, kicking techniques\, joint manipulation and take downs. \nBe sure to wear baggy clothing and sneakers or go bare foot. \nClass will last 45-60 minutes. \nInstructor is Covert Blackledge\, 7th degree Black Belt\, with over 55 years experience\, and a nationally recognized instructor and competitor. \nTarget Audience: Everyone (12+) \nJoin this group! Complete the form below.
URL:https://www.northcities.org/event/self-defense/2026-02-05/
LOCATION:North Cities\, 502 Belt Line Rd\, Garland\, TX\, 75040\, United States
CATEGORIES:Connect Groups,MISC
ORGANIZER;CN="Covert Blackledge":MAILTO:covertblackledge@yahoo.com
GEO:32.9378119;-96.6347655
X-APPLE-STRUCTURED-LOCATION;VALUE=URI;X-ADDRESS=North Cities 502 Belt Line Rd Garland TX 75040 United States;X-APPLE-RADIUS=500;X-TITLE=502 Belt Line Rd:geo:-96.6347655,32.9378119
END:VEVENT
BEGIN:VEVENT
DTSTART;TZID=America/Chicago:20260129T190000
DTEND;TZID=America/Chicago:20260129T200000
DTSTAMP:20260420T130104
CREATED:20251222T200146Z
LAST-MODIFIED:20251222T200146Z
UID:10009007-1769713200-1769716800@www.northcities.org
SUMMARY:Self-Defense
DESCRIPTION:This group will teach the basics of karate and taekwon do. No uniforms\, no belt rank\, no sparring. \nThe class will do a short warm up/stretch then go over the basic hand techniques\, kicking techniques\, joint manipulation and take downs. \nBe sure to wear baggy clothing and sneakers or go bare foot. \nClass will last 45-60 minutes. \nInstructor is Covert Blackledge\, 7th degree Black Belt\, with over 55 years experience\, and a nationally recognized instructor and competitor. \nTarget Audience: Everyone (12+) \nJoin this group! Complete the form below.
URL:https://www.northcities.org/event/self-defense/2026-01-29/
LOCATION:North Cities\, 502 Belt Line Rd\, Garland\, TX\, 75040\, United States
CATEGORIES:Connect Groups,MISC
ORGANIZER;CN="Covert Blackledge":MAILTO:covertblackledge@yahoo.com
GEO:32.9378119;-96.6347655
X-APPLE-STRUCTURED-LOCATION;VALUE=URI;X-ADDRESS=North Cities 502 Belt Line Rd Garland TX 75040 United States;X-APPLE-RADIUS=500;X-TITLE=502 Belt Line Rd:geo:-96.6347655,32.9378119
END:VEVENT
BEGIN:VEVENT
DTSTART;TZID=America/Chicago:20260122T190000
DTEND;TZID=America/Chicago:20260122T200000
DTSTAMP:20260420T130104
CREATED:20251222T200146Z
LAST-MODIFIED:20251222T200146Z
UID:10009006-1769108400-1769112000@www.northcities.org
SUMMARY:Self-Defense
DESCRIPTION:This group will teach the basics of karate and taekwon do. No uniforms\, no belt rank\, no sparring. \nThe class will do a short warm up/stretch then go over the basic hand techniques\, kicking techniques\, joint manipulation and take downs. \nBe sure to wear baggy clothing and sneakers or go bare foot. \nClass will last 45-60 minutes. \nInstructor is Covert Blackledge\, 7th degree Black Belt\, with over 55 years experience\, and a nationally recognized instructor and competitor. \nTarget Audience: Everyone (12+) \nJoin this group! Complete the form below.
URL:https://www.northcities.org/event/self-defense/2026-01-22/
LOCATION:North Cities\, 502 Belt Line Rd\, Garland\, TX\, 75040\, United States
CATEGORIES:Connect Groups,MISC
ORGANIZER;CN="Covert Blackledge":MAILTO:covertblackledge@yahoo.com
GEO:32.9378119;-96.6347655
X-APPLE-STRUCTURED-LOCATION;VALUE=URI;X-ADDRESS=North Cities 502 Belt Line Rd Garland TX 75040 United States;X-APPLE-RADIUS=500;X-TITLE=502 Belt Line Rd:geo:-96.6347655,32.9378119
END:VEVENT
END:VCALENDAR